BEGIN:VCALENDAR
VERSION:2.0
PRODID:-//Saint-Martin d&#039;Arrossa - ECPv4.8.0.1//NONSGML v1.0//EN
CALSCALE:GREGORIAN
METHOD:PUBLISH
X-WR-CALNAME:Saint-Martin d&#039;Arrossa
X-ORIGINAL-URL:https://www.saintmartindarrossa.fr
X-WR-CALDESC:Évènements pour Saint-Martin d&#039;Arrossa
BEGIN:VEVENT
DTSTART;TZID=Europe/Paris:20180721T183000
DTEND;TZID=Europe/Paris:20180721T183000
DTSTAMP:20260425T005652
CREATED:20180705T071145Z
LAST-MODIFIED:20180712T125228Z
UID:2429-1532197800-1532197800@www.saintmartindarrossa.fr
SUMMARY:Mascarade souletine
DESCRIPTION:  \n  \n\n \nrendez- vous : \n–  sur le parking derrière l’agence postale d’Arrossa à 18:30 pour Barrikadak\, \n– sur la place du fronton à 20:30 pour la mascarade souletine . \nPartager :Cliquez pour partager sur Facebook(ouvre dans une nouvelle fenêtre)Cliquez pour partager sur Twitter(ouvre dans une nouvelle fenêtre)Cliquer pour imprimer(ouvre dans une nouvelle fenêtre)
URL:https://www.saintmartindarrossa.fr/evenements/mascarade-souletine/
END:VEVENT
END:VCALENDAR